BEGIN:VCALENDAR
VERSION:2.0
PRODID:-//SJR Erlangen - ECPv6.15.20//NONSGML v1.0//EN
CALSCALE:GREGORIAN
METHOD:PUBLISH
X-WR-CALNAME:SJR Erlangen
X-ORIGINAL-URL:https://www.sjr-erlangen.de/WP
X-WR-CALDESC:Veranstaltungen für SJR Erlangen
REFRESH-INTERVAL;VALUE=DURATION:PT1H
X-Robots-Tag:noindex
X-PUBLISHED-TTL:PT1H
BEGIN:VTIMEZONE
TZID:Europe/Berlin
BEGIN:DAYLIGHT
TZOFFSETFROM:+0100
TZOFFSETTO:+0200
TZNAME:CEST
DTSTART:20250330T010000
END:DAYLIGHT
BEGIN:STANDARD
TZOFFSETFROM:+0200
TZOFFSETTO:+0100
TZNAME:CET
DTSTART:20251026T010000
END:STANDARD
BEGIN:DAYLIGHT
TZOFFSETFROM:+0100
TZOFFSETTO:+0200
TZNAME:CEST
DTSTART:20260329T010000
END:DAYLIGHT
BEGIN:STANDARD
TZOFFSETFROM:+0200
TZOFFSETTO:+0100
TZNAME:CET
DTSTART:20261025T010000
END:STANDARD
BEGIN:DAYLIGHT
TZOFFSETFROM:+0100
TZOFFSETTO:+0200
TZNAME:CEST
DTSTART:20270328T010000
END:DAYLIGHT
BEGIN:STANDARD
TZOFFSETFROM:+0200
TZOFFSETTO:+0100
TZNAME:CET
DTSTART:20271031T010000
END:STANDARD
END:VTIMEZONE
BEGIN:VEVENT
DTSTART;TZID=Europe/Berlin:20260425T100000
DTEND;TZID=Europe/Berlin:20260425T140000
DTSTAMP:20260424T142656
CREATED:20260213T095542Z
LAST-MODIFIED:20260331T063154Z
UID:8182-1777111200-1777125600@www.sjr-erlangen.de
SUMMARY:ENTFÄLLT!! Prävention sexualisierter Gewalt in der Jugendarbeit
DESCRIPTION:Warum dabei sein?\nDu engagierst dich in der Kinder- oder Jugendarbeit? Dann ist diese Schulung genau richtig für dich. Du lernst\, wie du Verantwortung übernehmen\, Grenzen erkennen und Kinder sowie Jugendliche wirksam schützen kannst. \nWas dich erwartet \n\nPraxisnahe Beispiele aus der Jugendarbeit\n• Interaktive Übungen und Austausch\n• Sicherheit im Umgang mit schwierigen Situationen\n• Konkrete Tipps für deinen Alltag\n\nReferent\nChristoph Bichler ist Fachberater für Prävention sexualisierter Gewalt beim Stadtjugendring Erlangen. Er bringt langjährige Erfahrung aus Jugendbildung und Präventionsarbeit mit und gestaltet Schulungen lebendig\, praxisnah und verständlich. \nFür wen?\nJugendleiter*innen\, Betreuer*innen und Ehrenamtliche in Vereinen\,\nVerbänden und offenen Angeboten der Kinder- und Jugendarbeit.
URL:https://www.sjr-erlangen.de/WP/event/basisschulung-praevention-sexualisierter-gewalt-in-der-jugendarbeit/
LOCATION:St. Markus Gemeinde\, Sieglitzhofer Str. 2a\, Erlangen\, 91054
ATTACH;FMTTYPE=image/png:https://www.sjr-erlangen.de/WP/wp-content/uploads/2026/02/Basisschulung-PsG.png
END:VEVENT
BEGIN:VEVENT
DTSTART;VALUE=DATE:20260529
DTEND;VALUE=DATE:20260603
DTSTAMP:20260424T142656
CREATED:20260309T181604Z
LAST-MODIFIED:20260310T093527Z
UID:8212-1780012800-1780444799@www.sjr-erlangen.de
SUMMARY:PIONEERS OF UTOPIA – 5-tägiges Fantasy-Abenteuercamp für Jugendliche (14–…)
DESCRIPTION:Von Freitag\, 29.05.26 (Anreise) bis Dienstag\, 02.06.26 (Abreise) veranstaltet der Stadtjugendring Erlangen\, Fachbereich „beteiligt&DABEI“\, eine fünftägige Ferienfreizeit im Waldheim des CVJM in Dachstadt (Landkreis Forchheim) für Jugendliche ab 14 Jahren.\nDie Teilnahme kostet 180 € pro Person inklusive Verpflegung und Unterkunft. \nSteig ein ins Abenteuer! https://pioneers-of-utopia.com \nWas ist das?\nDas „Pioneers of Utopia Fantasy-Abenteuercamp“ ist eine Ferienfreizeit der besonderen Art. Die Teilnehmenden tauchen in eine alternative viktorianische Steampunk-Welt ein\, in der historisch inspirierte Rollen mit futuristischen Elementen verknüpft werden. Sie übernehmen über fünf Tage eine eigenständig konzipierte Rolle (Charakter) und erleben ein Live-Rollenspiel (Larp)\, in dem sie gemeinsam Herausforderungen meistern und eine Spielgeschichte selbst miterzählen.\nDas Live-Rollenspiel: In der Welt von Pioneers of Utopia ist die „Loge der bunten Flamme“ eine vielfältige Gemeinschaft von Menschen und anderen Wesen\, die das Ziel haben\, Ideen für eine bessere Welt von morgen zu entwickeln. Die Loge tritt gegen einen mysteriösen Geheimbund an\, die „Anaris fena Dyrion“\, die „Söhne der Erde“. Dieser Geheimbund arbeitet\, ganz ähnlich zu den „Grauen Herren“ in Michael Endes „Momo“\, daran\, Angst in der Gesellschaft zu sähen\, die Menschen zu verunsichern\, zu versklaven und für ihre Zwecke zu instrumentalisieren. Die Teilnehmenden beschreiten ihren Weg in die Loge der bunten Flamme und entwickeln als Pioneers of Utopia eine Weltenmaschine\, die Portale in alternative Welten öffnen kann und damit Hoffnung und Zuversicht für die Zukunft stiftet. Dabei setzen sie sich nicht nur spielerisch mit Konflikten und Zusammenarbeit auseinander\, sondern erlernen Demokratie- und Sozialkompetenzen wie Kommunikation\, Kooperation\, kritisches Denken und kreative Problemlösung – zentrale Fähigkeiten für das 21. Jahrhundert. \nWas mache wir da?\nDas Pioneers of Utopia Abenteuercamp verbindet spielerische Immersion mit non-formaler Jugendbildung. Die Teilnehmenden erleben Wertschätzung für eigene Ideen\, übernehmen Verantwortung in der Gruppe und erproben demokratische Prozesse in einem sicheren\, betreuten Raum. Durch die aktive Gestaltung einer eigenen Rolle werden Selbstwirksamkeit und Reflexionsfähigkeit gestärkt. Betreuung erfolgt durch erfahrene Fachkräfte und Jugendbetreuer*innen des Stadtjugendring Erlangen. Kostüme für die Charakterdarstellung können mitgebracht werden\, müssen aber nicht. Vorerfahrung im Rollenspiel ist nicht erforderlich. \nDie Eckdaten:\nOrt: Waldheim CVJM\, Dachstadt (Landkreis Forchheim)\nZeit: 29.05.–02.06.2026\nKosten: 180 € pro Person (inklusiv Vollverpflegung)\nTeilnahme ab 14 Jahren\nVeranstalter: Stadtjugendring Erlangen – Fachbereich für Beteiligung „beteiligt&DABEI“\nAnmeldeschluss: 10.05.2026 \nHier gehts zur Anmeldung \nSteig ein ins Abenteuer! https://pioneers-of-utopia.com
URL:https://www.sjr-erlangen.de/WP/event/pioneers-of-utopia-5-taegiges-fantasy-abenteuercamp-fuer-jugendliche-14/
LOCATION:Waldheim CVJM\, Dachstadt (Landkreis Forchheim)
ATTACH;FMTTYPE=image/png:https://www.sjr-erlangen.de/WP/wp-content/uploads/2026/03/Steampunk-Gruppe-Gelaendespiel_3_SJR-Logo-scaled.png
END:VEVENT
BEGIN:VEVENT
DTSTART;TZID=Europe/Berlin:20260802T090000
DTEND;TZID=Europe/Berlin:20260808T150000
DTSTAMP:20260424T142656
CREATED:20260130T055256Z
LAST-MODIFIED:20260202T080257Z
UID:8156-1785661200-1786201200@www.sjr-erlangen.de
SUMMARY:Zirkus SJoRi - Integratives Zirkuszeltlager
DESCRIPTION:TRÄUME WERDEN WAHR! \nDer Zirkus kommt in die Stadt – und du kannst Teil davon sein! Erlebe eine unvergessliche Woche im Zirkuszeltlager. \nGemeinsam mit erfahrenen Zirkuspädagog*innen und Betreuer*innen des SJR studieren wir eine Woche lang im und rund um das große Zirkuszelt ein abwechslungsreiches Programm ein. Ob Hochseil\, Jonglage\, Trapez\, Diabolo\, Zauberei und vieles mehr – alles\, was zu einem echten Zirkus gehört\, ist dabei. \nWir leben gemeinsam in Zelten\, werden von einem eigenen Catering versorgt und präsentieren am Ende der Woche in zwei Aufführungen für Eltern\, Freund*innen und alle Interessierten\, was wir gelernt und kreativ entwickelt haben. \nDas Besondere an unserem Zeltlager: Teilnehmende mit und ohne Behinderung leben\, trainieren und gestalten den Zirkus gemeinsam – inklusiv\, kreativ und mit ganz viel Spaß. \n1. Vorführung\nFreitag\, 07.08.2026 um 19:00 Uhr\, \n2. Vorführung\nSamstag\, 08.08.2026 um 11:00 Uhr. \nEintrittskarten gibt es jeweils an der Zeltkasse. \nDer Aufbau unseres Zeltes findet am Freitag\, den 31.07.2026 ab 08:30 Uhr auf dem Platz statt. Helfende Hände von Eltern sind sehr willkommen (und wer kann schon von sich behaupten schon einmal ein echtes Zirkuszelt aufgebaut zu haben). \nAlle Helfenden bekommen ein Frühstück und zwei kostenlose Eintrittskarten für eine der beiden Vorführungen.\nWer Interesse hat\, bitte Mail an kohlert@sjr-erlangen.de \nFACTS \nWER: 50 Kinder und Jugendliche ab 9 Jahren mit und ohne Behinderung\nWANN: So. 02.08. bis Sa. 08.08.2026\nAufbau am Freitag\, 31.07.2026\nWO: der diesjährige Platz steht noch nicht fest.\nEUR: 300\,00€ alles inklusive (25\,00 € mit Erlangen Pass) \nAnmeldeschluss 26.06.2026 – wenn nicht vorher ausgebucht \nHier geht’s zur Anmeldung! Diese ist ab Montag\, den 02.02.2026 6:00 Uhr freigeschalten \n  \nWICHTIG: Die aktuelle Haushaltssituation der Stadt Erlangen betrifft\, auch die Planungen für den Zirkus 2026. \nUm die veranschlagten Kosten für das diesjährige Projekt zu decken\, müssen wir Mittel aus anderen Quellen generieren.\nDas können natürlich Spenden in Geld- oder Sachform sein\, den großen Teil werden wir aber durch Stiftungen etc. decken müssen. \nDie bedeutet: Alle Anmeldungen werden als Interessensbekundung gesammelt. Diese wandelt sich nach Zusage unserer möglichen Drittmittelgeber automatisch in die Anmeldeliste um. Alle\, die sich gemeldet haben bekommen zeitnah eine Rückmeldung. Sollte sich bis zur Kalenderwoche 26/2026 (Woche ab dem 22.06.26) abzeichnen\, dass wir trotz Einsparungen\, Spenden etc. nicht genug Einnahmen generieren konnten werden wir den Zirkus 2026 absagen. \nBereits gezahlte TN-Beiträge würden dann natürlich zu 100 % zurückerstattet. \nSpenden: Gerne auf das Konto des SJR (73 7635 0000 0000 0338 95; BYLADEM1ERH) bei der Sparkasse Erlangen. Stichwort Zirkus. An dieser Stelle nochmals herzlichsten Dank an alle die bereits jetzt Geld für den diesjährigen Zirkus gespendet haben. Dies ist neben vielen anderen schönen Erlebnissen und dem großen Zuspruch ein weiterer Ansporn.
URL:https://www.sjr-erlangen.de/WP/event/zirkus-sjori-integratives-zirkuszeltlager/
ATTACH;FMTTYPE=image/jpeg:https://www.sjr-erlangen.de/WP/wp-content/uploads/2022/02/SJoRi-300x300-1.jpg
END:VEVENT
END:VCALENDAR